BEGIN:VCALENDAR
VERSION:2.0
PRODID:-//wp-events-plugin.com//7.2.3.1//EN
TZID:Europe/Berlin
X-WR-TIMEZONE:Europe/Berlin
BEGIN:VEVENT
UID:378@thueringer-literaturrat.de
DTSTART;TZID=Europe/Berlin:20250424T180000
DTEND;TZID=Europe/Berlin:20250424T193000
DTSTAMP:20250416T134136Z
URL:https://www.thueringer-literaturrat.de/kalender/verleihung-des-shakesp
 eare-preises-2025/
SUMMARY:Verleihung des Shakespeare-Preises 2025
DESCRIPTION:Verleihung des Shakespeare-Preises an Dame Harriet Mary Walter\
 n\nDie vielfach preisgekrönte Schauspielerin hat nicht nur durch ihre The
 aterkarriere Weltruhm erlangt\, sondern ist einem breiten Publikum durch i
 hre Rollen in Filmen und Serien wie Sense and Sensibility (1995)\, Downton
  Abbey (2013 – 2015) über The Crown (2016) bis hin zu Wolf Hall (2024) 
 bekannt.\n\nGrußwort des Oberbürgermeisters der Stadt Weimar Peter Klein
 e\n\nGrußwort des Direktors der Herzogin Anna Amalia Bibliothek Reinhard 
 Laube\n\nGrußwort der Vorsitzenden der Jury Claudia Olk\n\nDie Laudatio w
 ird die Regisseurin Phyllida Lloyd (CBE) halten. Sie hat eng mit Walter zu
 sammengearbeitet und u.a. in Filmen wie Mamma Mia! (2008) oder The Iron La
 dy (2011) Regie geführt.\n\nMusikalischer Rahmen\nCarolanne Wright\, Patr
 ick Pagels\n\nVeranstalter: Deutsche Shakespeare-Gesellschaft e.V.\n\n&nbs
 p\;\n\nAnmeldung bis 22. April 2025 unter Telefon (0)3643 904076 oder E-Ma
 il: office@shakespeare-gesellschaft.de erbeten.
CATEGORIES:Preisverleihung
LOCATION:Herzogin Anna Amalia Bibliothek Weimar / Studienzentrum\, Platz de
 r Demokratie 4\, Weimar\, 99423\, Deutschland
GEO:50.979592;11.330812
X-APPLE-STRUCTURED-LOCATION;VALUE=URI;X-ADDRESS=Platz der Demokratie 4\, We
 imar\, 99423\, Deutschland;X-APPLE-RADIUS=100;X-TITLE=Herzogin Anna Amalia
  Bibliothek Weimar / Studienzentrum:geo:50.979592,11.330812
END:VEVENT
BEGIN:VTIMEZONE
TZID:Europe/Berlin
X-LIC-LOCATION:Europe/Berlin
BEGIN:DAYLIGHT
DTSTART:20250330T030000
TZOFFSETFROM:+0100
TZOFFSETTO:+0200
TZNAME:CEST
END:DAYLIGHT
END:VTIMEZONE
END:VCALENDAR