BEGIN:VCALENDAR
VERSION:2.0
PRODID:-//wp-events-plugin.com//7.2.3.1//EN
TZID:Europe/Berlin
X-WR-TIMEZONE:Europe/Berlin
BEGIN:VEVENT
UID:419@thueringer-literaturrat.de
DTSTART;TZID=Europe/Berlin:20250612T200000
DTEND;TZID=Europe/Berlin:20250612T220000
DTSTAMP:20250519T112507Z
URL:https://www.thueringer-literaturrat.de/kalender/musikalische-lesung-mi
 t-klaus-hoffmann/
SUMMARY:Musikalische Lesung mit Klaus Hoffmann
DESCRIPTION:Einfühlsam\, versiert\, ironisch\, aber nie verletzend singt K
 laus Hoffmann seiner Generation ihr Lebensgefühl vor. Im Gasthof Saalborn
  liest er aus seiner Biographie sowie aus dem Roman »Afghana« und singt 
 einige seiner schönsten Lieder.\n\nEintritt: 30.00€\n\n&nbsp\;\n\nVeran
 stalter: Gasthof Saalborn.\n\nEintrittskarten während unserer Öffnungsze
 iten vor Ort oder unter reservierung@gasthof-saalborn.de. Der Vorverkauf b
 eginnt am 13.3. um 12 Uhr.
CATEGORIES:Lesung &amp; Konzert
LOCATION:Gasthof Saalborn\, Im Dorfe 19\, Blankenhain / OT Saalborn\, 99444
  \, Deutschland
GEO:50.89129;11.32533
X-APPLE-STRUCTURED-LOCATION;VALUE=URI;X-ADDRESS=Im Dorfe 19\, Blankenhain /
  OT Saalborn\, 99444 \, Deutschland;X-APPLE-RADIUS=100;X-TITLE=Gasthof Saa
 lborn:geo:50.89129,11.32533
END:VEVENT
BEGIN:VTIMEZONE
TZID:Europe/Berlin
X-LIC-LOCATION:Europe/Berlin
BEGIN:DAYLIGHT
DTSTART:20250330T030000
TZOFFSETFROM:+0100
TZOFFSETTO:+0200
TZNAME:CEST
END:DAYLIGHT
END:VTIMEZONE
END:VCALENDAR