BEGIN:VCALENDAR
VERSION:2.0
PRODID:-//wp-events-plugin.com//7.2.3.1//EN
TZID:Europe/Berlin
X-WR-TIMEZONE:Europe/Berlin
BEGIN:VEVENT
UID:400@thueringer-literaturrat.de
DTSTART;TZID=Europe/Berlin:20250912T160000
DTEND;TZID=Europe/Berlin:20250912T173000
DTSTAMP:20250430T073717Z
URL:https://www.thueringer-literaturrat.de/kalender/mundart-lesung-mit-sie
 glinde-moertel/
SUMMARY:Mundart-Lesung mit Sieglinde Mörtel
DESCRIPTION:„Tratsch vun frieher un itze“ – Mundart-Lesung mit Siegli
 nde Mörtel\n\nWenn wir am heimischen Küchentisch ins Plaudern geraten\, 
 reden wir\, wie uns der Schnabel gewachsen ist. Oft beginnt es mit "weeßt
 e noch" und endet mit "heitzedooche is olles onnorsch". Da reichen ein paa
 r altvertraute Wörter wie Eenkoofsnetz\, Cämpingbeitl\, Kuumuutschn oder
  Fertschwäre und schon sind wir mittendrin im Schwadronieren. Dabei schau
 t uns der Nachwuchs schon mal zweifelnd an und will wissen\, wie das über
 haupt ging ohne Telefon und Internet\, wozu es Lichtfrauen und Schrankenw
 ärter gab oder ob es tatsächlich Russen regnete.\n\nUnd wenn wir in unse
 rer regionalen Mundart erzählen\, dann lauschen sie nicht nur dem\, was w
 ir sagen\, sondern auch\, wie wir es sagen.\n\nAutorin Sieglinde Mörtel e
 rzählt von den kleinen alltäglichen Dingen. Sie bewahrt damit ein Stück
  Regional- und Zeitgeschichte und zugleich die vom Aussterben bedrohte lok
 ale Mundart.\n\nFür Kaffee &amp\; Kuchen wird gesorgt.\nBitte frühere Uh
 rzeit beachten!\n\nKarten gibt es in der Gemeindeverwaltung Krölpa\, in d
 er Buchhandlung am Markt Pößneck.\n\nEintritt / (ermäßigt): 8€ / 6
 €\n\nDie Veranstaltung findet im Bistro der Pinsenberghalle Krölpa stat
 t.\n\nVeranstalter: Lese-Zeichen e.V. in Kooperation mit der Gemeinde Krö
 lpa.
CATEGORIES:Lesung
LOCATION:Pinsenberghalle Krölpa\, Raniser Straße 17\, Krölpa\, 07387\, D
 eutschland
GEO:50.676645;11.540352
X-APPLE-STRUCTURED-LOCATION;VALUE=URI;X-ADDRESS=Raniser Straße 17\, Krölp
 a\, 07387\, Deutschland;X-APPLE-RADIUS=100;X-TITLE=Pinsenberghalle Krölpa
 :geo:50.676645,11.540352
END:VEVENT
BEGIN:VTIMEZONE
TZID:Europe/Berlin
X-LIC-LOCATION:Europe/Berlin
BEGIN:DAYLIGHT
DTSTART:20250330T030000
TZOFFSETFROM:+0100
TZOFFSETTO:+0200
TZNAME:CEST
END:DAYLIGHT
END:VTIMEZONE
END:VCALENDAR