BEGIN:VCALENDAR
VERSION:2.0
PRODID:-//wp-events-plugin.com//7.2.3.1//EN
TZID:Europe/Berlin
X-WR-TIMEZONE:Europe/Berlin
BEGIN:VEVENT
UID:405@thueringer-literaturrat.de
DTSTART;TZID=Europe/Berlin:20250519T093000
DTEND;TZID=Europe/Berlin:20250519T103000
DTSTAMP:20250430T082548Z
URL:https://www.thueringer-literaturrat.de/kalender/maerchen-fuer-kinder-m
 it-hansi-von-maerchenborn/
SUMMARY:Märchen für Kinder mit Hansi von Märchenborn
DESCRIPTION:Hansi von Märchenborn zu Gast in Zella-Mehlis mit seinen bekan
 nten Programm für Kindergartenkinder: „Ei\, ei\, ei das gibt’s doch n
 icht!“\n\nHansi von Märchenborn beschreibt das Programm auf seiner Inte
 rnetseite folgendermaßen:\n\n„Ei\, ei\, ei\, das gibt’s doch nicht…
 “ So nennt sich das Kinderprogramm für Kinder von 4-10 Jahren. Dabei we
 rden spannende Geschichten von Karlchen und Häschen erzählt\, die eine R
 ahmenhandlung für ein traditionelles Märchen bilden. Die Kinder müssen 
 eine Rätselfrage lösen und noch nie sind sie nach Hause gegangen\, ohne 
 das Lied „Ei\,ei\,ei\, das gibt‘s doch nicht..“ zu singen. Aus Erfah
 rung darf gesagt werden\, dass dieser Ohrwurm mindestens ein halbes Jahr i
 m Kopf bleibt!\n\nVeranstalter: Friedrich-Bödecker-Kreis für Thüringen 
 e.V. Gefördert durch das Thüringer Ministerium für Bildung\, Wissenscha
 ft und Kultur.
CATEGORIES:Freies Erzählen
LOCATION:Stadt- und Kreisbibliothek Zella-Mehlis\, Rathausstraße 4\, Zella
 -Mehlis\, 98544\, Deutschland
GEO:50.656423;10.664152
X-APPLE-STRUCTURED-LOCATION;VALUE=URI;X-ADDRESS=Rathausstraße 4\, Zella-Me
 hlis\, 98544\, Deutschland;X-APPLE-RADIUS=100;X-TITLE=Stadt- und Kreisbibl
 iothek Zella-Mehlis:geo:50.656423,10.664152
END:VEVENT
BEGIN:VTIMEZONE
TZID:Europe/Berlin
X-LIC-LOCATION:Europe/Berlin
BEGIN:DAYLIGHT
DTSTART:20250330T030000
TZOFFSETFROM:+0100
TZOFFSETTO:+0200
TZNAME:CEST
END:DAYLIGHT
END:VTIMEZONE
END:VCALENDAR