BEGIN:VCALENDAR
VERSION:2.0
PRODID:-//wp-events-plugin.com//7.2.3.1//EN
TZID:Europe/Berlin
X-WR-TIMEZONE:Europe/Berlin
BEGIN:VEVENT
UID:418@thueringer-literaturrat.de
DTSTART;TZID=Europe/Berlin:20250522T190000
DTEND;TZID=Europe/Berlin:20250522T203000
DTSTAMP:20250521T055403Z
URL:https://www.thueringer-literaturrat.de/kalender/literaturland-thuering
 en-unterwegs-lesung-mit-jens-fietje-dwars-und-lutz-rathenow-im-literaturha
 us-halle/
SUMMARY:Literaturland Thüringen unterwegs – Lesung mit Jens-Fietje Dwars
  und Lutz Rathenow im Literaturhaus Halle
DESCRIPTION:\n\n&nbsp\;\n\n„Zukunft ist immer“ – Lutz Rathenow und Je
 ns-Fietje Dwars lesen Gedichte und Geschichten aus Thüringen und dem Rest
  der Welt\n\n&nbsp\;\n\nLutz Rathenow wurde in Jena geboren\, Jens-Fietje 
 Dwars lebt in der Saalestadt. Der eine hat 1973 einen Arbeitskreis Literat
 ur gegründet\, wurde exmatrikuliert und verhaftet\, gehört zu den bekann
 testen Dissidenten der DDR\, war zehn Jahre lang Sächsischer Landesbeauft
 ragter zur Aufarbeitung der SED-Diktatur und ist heute wieder freier Schri
 ftsteller. Der andere war Mitglied der SED\, glaubte mit Gorbatschow an ei
 ne Reformierbarkeit des Sozialismus und ist Chefredakteur der Thüringer L
 iteraturzeitschrift „Palmbaum“ sowie Schriftsteller\, Buchgestalter\, 
 Film- und Ausstellungsmacher. Prägen ihre verschiedenen Lebenserfahrungen
  auch ihr Schreiben? Und wie bewegen sie sich im Gelände neuer Wende-Zeit
 en? Rathenow liest aus seinem jüngsten Gedichtband „Früher ist morgen
 “ und Dwars aus dem Erzählband „Wie ich den Kommunismus verlor“.\n\
 nLutz Rathenow\, 1952 in Jena geboren\, oppositioneller Netzwerker\, liter
 arische Veröffentlichungen in der Schweiz\, BRD\, Schweden\, Österreich\
 , Frankreich\, Rumänien\, selten in der DDR. Nach 1990 auch Kroatien\, US
 A\, Iran (Anthologie)\, Taiwan (Kinderbuch). Periphere Preise\, bis 2021 S
 ächsischer Landesbeauftragter zur Aufarbeitung der SED-Diktatur. Nach „
 Trotzig lächeln und das Weltall streicheln. Mein Leben in Geschichten“ 
 (2022\, Kanon) erschien 2025 die lyrische Biografie „Früher ist morgen.
  Einhundertelf Gedichte“ (Verlag Ralf Liebe). Er lebt in Berlin.\n\nJens
 -Fietje Dwars\, 1960 in Weißenfels geboren\, studierte Philosophie in Wro
 claw\, Berlin und Jena\, 1986 Promotion über Ludwig Feuerbach. Von 1985 b
 is 1992 war er Germanistik-Assistent an der Friedrich-Schiller-Universitä
 t in Jena. Danach arbeitslos und ABM-erfahren. Seit 2000 freier Schriftste
 ller\, Herausgeber\, Buchgestalter\, Film- und Ausstellungsmacher. Für Fi
 lmporträts über Johannes R. Becher und Peter Weiss erhielt er 2001 und 2
 004 Adolf-Grimme-Sonderpreise. Seit 2005 ist er Chefredakteur der Literatu
 rzeitschrift »Palmbaum – Literarisches Journal aus Thüringen« und Her
 ausgeber der »Edition Ornament« sowie der »Weißen Reihe« im quartus-V
 erlag Bucha. Jens-Fietje Dwars lebt in Jena.\n\nModeration: Jens Kirsten.
 \n\nEine Veranstaltung des Literaturhauses Halle in Kooperation mit dem Th
 üringer Literaturrat und dessen Reihe „Literaturland Thüringen unterwe
 gs“. Mit freundlicher Unterstützung des Thüringer Ministeriums für Bi
 ldung\, Wissenschaft und Kultur.
CATEGORIES:Gespräch,Lesung
LOCATION:https://literaturhaus-halle.de/events/zukunft-ist-immer-lutz-rathe
 now-und-jens-fietje-dwars-lesen-gedichte-und-geschichten-aus-thueringen-un
 d-dem-rest-der-welt/
END:VEVENT
BEGIN:VTIMEZONE
TZID:Europe/Berlin
X-LIC-LOCATION:Europe/Berlin
BEGIN:DAYLIGHT
DTSTART:20250330T030000
TZOFFSETFROM:+0100
TZOFFSETTO:+0200
TZNAME:CEST
END:DAYLIGHT
END:VTIMEZONE
END:VCALENDAR