BEGIN:VCALENDAR
VERSION:2.0
PRODID:-//wp-events-plugin.com//7.2.3.1//EN
TZID:Europe/Berlin
X-WR-TIMEZONE:Europe/Berlin
BEGIN:VEVENT
UID:377@thueringer-literaturrat.de
DTSTART;TZID=Europe/Berlin:20250416T160000
DTEND;TZID=Europe/Berlin:20250416T170000
DTSTAMP:20250416T083901Z
URL:https://www.thueringer-literaturrat.de/kalender/literaturland-thuering
 en-im-radio-11/
SUMMARY:Literaturland Thüringen im Radio
DESCRIPTION:Die Schriftstellerin Ingrid Annel und der Schriftsteller und Ka
 barettist Ulf Annel\, die in diesem Jahr beide ihren 70. Geburtstag feiern
 \, sprechen mit Jens Kirsten über ihre Arbeit.\n\nIngrid Annel studierte 
 Physik und Mathematik und anschließend Germanistik und Kunsterziehung\, a
 bsolvierte ein Forschungsstudium der Literaturwissenschaft\, war Lektorin\
 , Buchhändlerin\, Dramaturgin\, Musiklehrerin\, Musikerin\, Bücherclown 
 und ist seit vielen Jahren freiberufliche Schriftstellerin.\n\nUlf Annel s
 tudierte Journalistik in Leipzig und ist seit 1981 Kabarettist am Erfurter
  Kabarett «Die Arche«\, das 1979 gegründet wurde. Zudem ist er seit vie
 len Jahren Schriftsteller.\n\n&nbsp\;\n\n\n\nRadio Lotte im Stadtgebiet vo
 n Weimar auf 106\,6 Mhz und im Livestream auf www.radiolotte.de. Alle Send
 ungen lassen sich als Podcast auf der Website www.literaturland-thueringen
 .de und auf dem Youtube-Kanal des Thüringer Literaturrates »Literaturlan
 d Thüringen« nachhören.\n\nEine Produktion des Thüringer Literaturrate
 s 2025 im Rahmen der Reihe »Literaturland Thüringen im Radio« mit freun
 dlicher Unterstützung des Thüringer Ministeriums für Bildung\, Wissensc
 haft und Kultur.\n\n&nbsp\;
CATEGORIES:Radiosendung
LOCATION:https://www.radio-okj.de/
END:VEVENT
BEGIN:VTIMEZONE
TZID:Europe/Berlin
X-LIC-LOCATION:Europe/Berlin
BEGIN:DAYLIGHT
DTSTART:20250330T030000
TZOFFSETFROM:+0100
TZOFFSETTO:+0200
TZNAME:CEST
END:DAYLIGHT
END:VTIMEZONE
END:VCALENDAR