BEGIN:VCALENDAR
VERSION:2.0
PRODID:-//wp-events-plugin.com//7.2.3.1//EN
TZID:Europe/Berlin
X-WR-TIMEZONE:Europe/Berlin
BEGIN:VEVENT
UID:413@thueringer-literaturrat.de
DTSTART;TZID=Europe/Berlin:20250517T180000
DTEND;TZID=Europe/Berlin:20250517T223000
DTSTAMP:20250507T053724Z
URL:https://www.thueringer-literaturrat.de/kalender/literatur-und-musik-zu
 r-langen-nacht-der-museen/
SUMMARY:Literatur und Musik zur langen Nacht der Museen
DESCRIPTION:Musikalische Lesung | Meine Nacht im Museum\nLiteratur und Cell
 o verschmelzen zu einer sinnlichen Nacht im Museum – eine Reise zwischen
  Paris\, Venedig und Weimar.\n\nZwei französische Schriftstellerinnen ver
 bringen eine Nacht im Museum: Leïla Slimani streift durch die Punta della
  Dogana in Venedig\, während Jakuta Alikavazovic den Louvre in Paris neu 
 entdeckt. Ihre Worte aus „Der Duft der Blumen bei Nacht“ und „Wie ei
 n Himmel in uns“ verweben sich mit den sanften Klängen des Cellos und l
 aden Sie zu einer besonderen\, poetischen Reise durch das Museum ein.\n\nD
 ie Lesung findet im Raum der Weimarer Malerschule zu folgenden Zeiten stat
 t:\n\n18:00 Uhr\n18:30 Uhr\n20:00 Uhr\n20:30 Uhr\n22:00 Uhr\n\nLeserinnen:
  Béatrice Rivière und Jeannine Vogel.\n\nCello: Robert Schlotter.\n\nZum
  vollständigen Programm der Langen Nacht der Museen geht es hier. Ab sofo
 rt können Tickets an den Museumskassen der Klassik Stiftung Weimar erworb
 en werden.\n\nEntdecken Sie hier das vollständige Programm der Klassik St
 iftung Weimar zur Langen Nacht der Museen.\n\nVeranstalter: Klassik Stiftu
 ng Weimar.
CATEGORIES:Lesung &amp; Konzert
LOCATION:Neues Museum Weimar\, Jorge-Semprún-Platz 5\, Weimar\, 99423\, De
 utschland
GEO:50.98618;11.326372
X-APPLE-STRUCTURED-LOCATION;VALUE=URI;X-ADDRESS=Jorge-Semprún-Platz 5\, We
 imar\, 99423\, Deutschland;X-APPLE-RADIUS=100;X-TITLE=Neues Museum Weimar:
 geo:50.98618,11.326372
END:VEVENT
BEGIN:VTIMEZONE
TZID:Europe/Berlin
X-LIC-LOCATION:Europe/Berlin
BEGIN:DAYLIGHT
DTSTART:20250330T030000
TZOFFSETFROM:+0100
TZOFFSETTO:+0200
TZNAME:CEST
END:DAYLIGHT
END:VTIMEZONE
END:VCALENDAR