BEGIN:VCALENDAR
VERSION:2.0
PRODID:-//wp-events-plugin.com//7.2.3.1//EN
TZID:Europe/Berlin
X-WR-TIMEZONE:Europe/Berlin
BEGIN:VEVENT
UID:367@thueringer-literaturrat.de
DTSTART;TZID=Europe/Berlin:20250404T180000
DTEND;TZID=Europe/Berlin:20250404T193000
DTSTAMP:20250401T072754Z
URL:https://www.thueringer-literaturrat.de/kalender/lesung-und-vortrag-mit
 -thomas-kaufmann/
SUMMARY:Lesung und Vortrag mit Thomas Kaufmann
DESCRIPTION:Der Bauernkrieg – Ein Medienereignis\n\nLesung und Vortrag mi
 t Thomas Kaufmann\n\nVeranstalter: Goethe-Gesellschaft in Weimar e.V.
CATEGORIES:Vortrag
LOCATION:Herzogin Anna Amalia Bibliothek Weimar / Studienzentrum\, Platz de
 r Demokratie 4\, Weimar\, 99423\, Deutschland
GEO:50.979592;11.330812
X-APPLE-STRUCTURED-LOCATION;VALUE=URI;X-ADDRESS=Platz der Demokratie 4\, We
 imar\, 99423\, Deutschland;X-APPLE-RADIUS=100;X-TITLE=Herzogin Anna Amalia
  Bibliothek Weimar / Studienzentrum:geo:50.979592,11.330812
END:VEVENT
BEGIN:VTIMEZONE
TZID:Europe/Berlin
X-LIC-LOCATION:Europe/Berlin
BEGIN:DAYLIGHT
DTSTART:20250330T030000
TZOFFSETFROM:+0100
TZOFFSETTO:+0200
TZNAME:CEST
END:DAYLIGHT
END:VTIMEZONE
END:VCALENDAR