BEGIN:VCALENDAR
VERSION:2.0
PRODID:-//wp-events-plugin.com//7.2.3.1//EN
TZID:Europe/Berlin
X-WR-TIMEZONE:Europe/Berlin
BEGIN:VEVENT
UID:374@thueringer-literaturrat.de
DTSTART;TZID=Europe/Berlin:20250405T200000
DTEND;TZID=Europe/Berlin:20250405T213000
DTSTAMP:20250402T114130Z
URL:https://www.thueringer-literaturrat.de/kalender/lesung-mit-vicki-vomit
 /
SUMMARY:Lesung mit Vicki Vomit
DESCRIPTION:VICKY VOMIT liest aus seinem autobiografischen Roman "Mein Klam
 pf".\n\nDer unglaubliche Gitarrenschlucker Vicki Vomit hatte sich 2020 mit
  einer fulminanten Abschiedstour\, die dann aber noch durch Corona jäh un
 terbrochen wurde\, von der Bühne verabschiedet. Noch heute rätselt die M
 enschheit\, wie ein gefaktes mexikanisches Bier so ansteckend sein konnte.
  Und wie es Vicki Vomit geschafft hat\, alle Deutschen mit einem gesundhei
 tsschädigenden Placebo zwangs zu impfen und die Schuld daran der Regierun
 g in die Schuhe zu schieben.\nAber Vicki Vomit wäre nicht Vicki Vomit\, w
 enn sich nicht schon wieder neue Ideen seiner bemächtigen würden. Und so
  droht nun abermals neuerlicher Unfug! Vicki Vomit geht mit seinem ersten 
 Roman „Mein Klampf“ auf Lesereise. Und nicht nur das\, sein Altenpfleg
 er schleppt ihm auf der Tournee zu allem Übel noch seine Gitarre hinterhe
 r\, so dass auch noch die Intonierung einiger der grässlichsten Machwerke
  des Meisters zu befürchten steht.\n\nMit großer Sicherheit wird auch de
 r eine oder andere Kulthit aus seinem mannigfaltigen\, musikalischen Leben
 swerk dargeboten werden.\n\nKarten\n\nVeranstalter: Comma Gera.
CATEGORIES:Lesung
LOCATION:Comma Gera\, Heinrichstraße 47\, Gera\, 07545\, Deutschland
GEO:50.871956;12.076131
X-APPLE-STRUCTURED-LOCATION;VALUE=URI;X-ADDRESS=Heinrichstraße 47\, Gera\,
  07545\, Deutschland;X-APPLE-RADIUS=100;X-TITLE=Comma Gera:geo:50.871956,1
 2.076131
END:VEVENT
BEGIN:VTIMEZONE
TZID:Europe/Berlin
X-LIC-LOCATION:Europe/Berlin
BEGIN:DAYLIGHT
DTSTART:20250330T030000
TZOFFSETFROM:+0100
TZOFFSETTO:+0200
TZNAME:CEST
END:DAYLIGHT
END:VTIMEZONE
END:VCALENDAR