BEGIN:VCALENDAR
VERSION:2.0
PRODID:-//wp-events-plugin.com//7.2.3.1//EN
TZID:Europe/Berlin
X-WR-TIMEZONE:Europe/Berlin
BEGIN:VEVENT
UID:401@thueringer-literaturrat.de
DTSTART;TZID=Europe/Berlin:20250504T150000
DTEND;TZID=Europe/Berlin:20250504T163000
DTSTAMP:20250430T074635Z
URL:https://www.thueringer-literaturrat.de/kalender/lesung-mit-sieglinde-m
 oertel/
SUMMARY:Lesung mit Sieglinde Mörtel
DESCRIPTION:Die Bibliothek Bad Blankenburg lädt alle Interessierten zwisch
 en 10 und 99 Jahren zu einer Leseveranstaltung mit der Autorin Sieglinde M
 örtel in die Räume des Kunstkreises Bad Blankenburg e.V. ein\n\nVon „K
 aisersch Zeitn“ bis ze „Curunoon“\n\nSieglinde Mörtels Metier sind 
 Geschichten „von früher“. Es sind Episoden aus dem Alltag der „klei
 nen Leute“\, die sich jenseits der „staatstragenden Ereignisse“ und 
 abseits der großen Städte zugetragen haben. Ihre Geschichten erzählt si
 e mit Humor und oft auch in regionalem Dialekt. Die Themen reichen vom auf
 regenden Kaiserbesuch auf dem Dorf über Kohlen- und Kartoffelklau in der 
 „schlechten Zeit“\, von NAW und Schwarzarbeit in der DDR bis zu skurri
 len Anekdoten aus den „(Nach-)Wende-Jahren“ und in der „Corona-Zeit
 “. Was für ältere Gäste aufgefrischte Erinnerungen sind\, die das „
 Kopfkino“ in Gang setzen\, sind die Geschichten für Kinder und Jugendli
 che eine interessante Zeitreise in die Vergangenheit und eine Begegnung mi
 t dem „Kulturgut Mundart“.\n\nVeranstalter: Friedrich-Bödecker-Kreis 
 für Thüringen e.V. In Kooperation mit der Bibliothek Bad Blankenburg und
  dem Kunstkreis Bad Blankenburg. Gefördert durch das TMBWS.
CATEGORIES:Lesung
LOCATION:Kunstkreis Bad Blankenburg\, Apostelgasse 1\, Bad Blankenburg\, 07
 422\, Deutschland
GEO:50.683921;11.264957
X-APPLE-STRUCTURED-LOCATION;VALUE=URI;X-ADDRESS=Apostelgasse 1\, Bad Blanke
 nburg\, 07422\, Deutschland;X-APPLE-RADIUS=100;X-TITLE=Kunstkreis Bad Blan
 kenburg:geo:50.683921,11.264957
END:VEVENT
BEGIN:VTIMEZONE
TZID:Europe/Berlin
X-LIC-LOCATION:Europe/Berlin
BEGIN:DAYLIGHT
DTSTART:20250330T030000
TZOFFSETFROM:+0100
TZOFFSETTO:+0200
TZNAME:CEST
END:DAYLIGHT
END:VTIMEZONE
END:VCALENDAR