BEGIN:VCALENDAR
VERSION:2.0
PRODID:-//wp-events-plugin.com//7.2.3.1//EN
TZID:Europe/Berlin
X-WR-TIMEZONE:Europe/Berlin
BEGIN:VEVENT
UID:402@thueringer-literaturrat.de
DTSTART;TZID=Europe/Berlin:20250514T103000
DTEND;TZID=Europe/Berlin:20250514T120000
DTSTAMP:20250430T081514Z
URL:https://www.thueringer-literaturrat.de/kalender/lesung-mit-rainer-hohb
 erg/
SUMMARY:Lesung mit Rainer Hohberg
DESCRIPTION:Rainer Hohberg liest „Märchen und Sagen aus Thüringen“\n\
 n\nDer Thüringer Märchen- und Sagenexperte Rainer Hohberg entführt die 
 Zuhörer in die faszinierende Welt der Thüringer Sagen und Märchen. In e
 iner multimedialen Veranstaltung werden bekannte sowie weniger bekannte Ge
 schichten vorgestellt\, die sich um Burgen\, Wälder und geheimnisvolle Or
 te der Region ranken. Mit Bildern\, Erzählungen und Hintergrundwissen wer
 den diese alten Überlieferungen lebendig gemacht und in ihren historische
 n Kontext eingeordnet. Dabei wird deutlich\, welche realen Ereignisse und 
 lokalen Besonderheiten sich hinter den Erzählungen verbergen und warum si
 e bis heute faszinieren. Ein besonderes Highlight der Veranstaltung ist da
 s interaktive Märchen-Quiz\, bei dem ausgewählte Kandidatinnen und Kandi
 daten ihr Wissen unter Beweis stellen können. Der Gewinner oder die Gewin
 nerin darf sich auf einen tollen Preis freuen. Die Mischung aus Erzählkun
 st\, Geschichte und Mitmach-Elementen macht die Veranstaltung zu einem bes
 onderen Erlebnis\, das einen lebendigen Zugang zur Welt der Thüringer Mä
 rchen bietet.\n\nFür Kinder ab 11 Jahre.\n\nVeranstalter: Friedrich-Böde
 cker-Kreis für Thüringen e.V. Gefördert durch das TMBWK.
CATEGORIES:Lesung
LOCATION:Stadt- und Kreisbibliothek Zella-Mehlis\, Rathausstraße 4\, Zella
 -Mehlis\, 98544\, Deutschland
GEO:50.656423;10.664152
X-APPLE-STRUCTURED-LOCATION;VALUE=URI;X-ADDRESS=Rathausstraße 4\, Zella-Me
 hlis\, 98544\, Deutschland;X-APPLE-RADIUS=100;X-TITLE=Stadt- und Kreisbibl
 iothek Zella-Mehlis:geo:50.656423,10.664152
END:VEVENT
BEGIN:VTIMEZONE
TZID:Europe/Berlin
X-LIC-LOCATION:Europe/Berlin
BEGIN:DAYLIGHT
DTSTART:20250330T030000
TZOFFSETFROM:+0100
TZOFFSETTO:+0200
TZNAME:CEST
END:DAYLIGHT
END:VTIMEZONE
END:VCALENDAR