BEGIN:VCALENDAR
VERSION:2.0
PRODID:-//wp-events-plugin.com//7.2.3.1//EN
TZID:Europe/Berlin
X-WR-TIMEZONE:Europe/Berlin
BEGIN:VEVENT
UID:407@thueringer-literaturrat.de
DTSTART;TZID=Europe/Berlin:20250526T093000
DTEND;TZID=Europe/Berlin:20250526T103000
DTSTAMP:20250430T082941Z
URL:https://www.thueringer-literaturrat.de/kalender/lesung-mit-judith-alle
 rt/
SUMMARY:Lesung mit Judith Allert
DESCRIPTION:Judith Allert liest aus ihrem Kinderbuch\, „Die Insel der Tie
 rabenteuer – Eine geheime Spur“\n\nWillkommen auf der Insel der Tierab
 enteuer!  Hier riecht die Luft nach Freundschaft\, Geheimnissen und Braus
 epulver\n\nPauline liebt Tiere! Kein Wunder\, dass Wuschelhund Peps und si
 e\, kaum ist sie nach Bad Brausewind gezogen\, sofort unzertrennlich sind.
  Vor allem\, weil Pauline jedes Wort versteht\, das Peps sagt! Er wiederum
  versteht alle Tiere – kann also prima dolmetschen. Wie praktisch! Zusam
 men mit Felix gründen die beiden die Tierretter-Bande. Ihr erster Fall? A
 uf der Insel versteckt sich ein seltsames Zottelwesen. Ist es tatsächlich
  ein Yeti\, wie Felix behauptet? Ihre Suche führt sie über den glitzernd
 en See auf den höchsten Berg und mitten hinein in ein spannendes\, witzig
 es und tierisch-tolles Abenteuer.\n\nEine Lesung für Kinder der zwischen 
 6 – 8 Jahren zum fantasievollen und frechen Kinderbuch von Judith Allert
  mit vielen tollen\, witzigen und supersüßen Bildern von Sarah Garbers.\
 n\nVeranstalter: Friedrich-Bödecker-Kreis für Thüringen e.V. Gefördert
  durch das Thüringer Ministerium für Bildung\, Wissenschaft und Kultur.
CATEGORIES:Lesung
LOCATION:Stadt- und Kurbibliothek Tambach-Dietharz\, Burgstallstraße 31a\,
  Tambach-Dietharz\, 99897\, Deutschland
GEO:50.790219;10.611127
X-APPLE-STRUCTURED-LOCATION;VALUE=URI;X-ADDRESS=Burgstallstraße 31a\, Tamb
 ach-Dietharz\, 99897\, Deutschland;X-APPLE-RADIUS=100;X-TITLE=Stadt- und K
 urbibliothek Tambach-Dietharz:geo:50.790219,10.611127
END:VEVENT
BEGIN:VTIMEZONE
TZID:Europe/Berlin
X-LIC-LOCATION:Europe/Berlin
BEGIN:DAYLIGHT
DTSTART:20250330T030000
TZOFFSETFROM:+0100
TZOFFSETTO:+0200
TZNAME:CEST
END:DAYLIGHT
END:VTIMEZONE
END:VCALENDAR