BEGIN:VCALENDAR
VERSION:2.0
PRODID:-//wp-events-plugin.com//7.2.3.1//EN
TZID:Europe/Berlin
X-WR-TIMEZONE:Europe/Berlin
BEGIN:VEVENT
UID:408@thueringer-literaturrat.de
DTSTART;TZID=Europe/Berlin:20250526T110000
DTEND;TZID=Europe/Berlin:20250526T120000
DTSTAMP:20250430T083120Z
URL:https://www.thueringer-literaturrat.de/kalender/lesung-mit-judith-alle
 rt-2/
SUMMARY:Lesung mit Judith Allert
DESCRIPTION:Judith Allert stellt Kindern im Alter von 8-11 Jahre ihr Kinder
 buch „Die wilden Pfifferlinge: Dann retten wir eben die Welt!“ vor.\n\
 nDie 9-jährige Luca kann es nicht ertragen\, wenn Menschen Tiere und Natu
 r schlecht behandeln. Als sie und ihre Freunde Mücke und Yoko\, gemeinsam
  mit Dackelmix Schröder\, ein verlassenes Baumhaus entdecken\, ist klar: 
 Das wird ihr Bandentreffpunkt und sie werden von dort aus versuchen\, die 
 Welt ein kleines bisschen besser zu machen. Denn jedes Lebewesen ist wicht
 ig. Egal ob Mensch\, Maus\, Mücke oder Pfifferling. Allerdings wird schne
 ll klar: Viele Erwachsene nehmen die Kinder nicht ernst! Die wilden Pfiffe
 rlinge müssen sich also erst beweisen. Wie gut\, dass sie bald über ein 
 echtes Geheimnis stolpern … Und dann wird es richtig spannend! Die Umwel
 tdetektive legen los\n\nJudith Allert liest\, erzählt und beantwortet Fra
 gen zu ihrer Buchreihe „Die wilden Pfifferlinge“ für Kinder ab 8 – 
 11 Jahre.\n\n&nbsp\;\n\nVeranstalter: Friedrich-Bödecker-Kreis für Thür
 ingen e.V. Gefördert durch das Thüringer Ministerium für Bildung\, Wiss
 enschaft und Kultur.
CATEGORIES:Lesung
LOCATION:Stadt- und Kurbibliothek Tambach-Dietharz\, Burgstallstraße 31a\,
  Tambach-Dietharz\, 99897\, Deutschland
GEO:50.790219;10.611127
X-APPLE-STRUCTURED-LOCATION;VALUE=URI;X-ADDRESS=Burgstallstraße 31a\, Tamb
 ach-Dietharz\, 99897\, Deutschland;X-APPLE-RADIUS=100;X-TITLE=Stadt- und K
 urbibliothek Tambach-Dietharz:geo:50.790219,10.611127
END:VEVENT
BEGIN:VTIMEZONE
TZID:Europe/Berlin
X-LIC-LOCATION:Europe/Berlin
BEGIN:DAYLIGHT
DTSTART:20250330T030000
TZOFFSETFROM:+0100
TZOFFSETTO:+0200
TZNAME:CEST
END:DAYLIGHT
END:VTIMEZONE
END:VCALENDAR