BEGIN:VCALENDAR
VERSION:2.0
PRODID:-//wp-events-plugin.com//7.2.3.1//EN
TZID:Europe/Berlin
X-WR-TIMEZONE:Europe/Berlin
BEGIN:VEVENT
UID:373@thueringer-literaturrat.de
DTSTART;TZID=Europe/Berlin:20250403T183000
DTEND;TZID=Europe/Berlin:20250403T200000
DTSTAMP:20250402T113737Z
URL:https://www.thueringer-literaturrat.de/kalender/lesung-mit-jeppe-reinh
 ardt/
SUMMARY:Lesung mit Jeppe Reinhardt
DESCRIPTION:Lesung mit Jeppe Reinhardt\n\nWenn jemand eine witzige\, abente
 uerliche Idee hat und diese dann auch noch umsetzt\, dann hat er was zu er
 zählen!\n\nSo wie Jeppe Reinhardt\, der mit einem sperrigen Klappsofa im 
 Gepäck von Gera aus über 240km nach Magdeburg gewandert ist. Ja\, richti
 g gelesen\, gewandert!\n\nIn seinem Reisebericht erzählt er davon\, wie e
 s dazu gekommen ist\, welchen Spaß er dabei hatte und natürlich auch\, w
 elchen Herausforderungen er begegnet ist.\n\nWer davon nicht nur lesen mö
 chte\, sondern den abenteuerlustigen Mann gerne einmal selbst kennenlernen
  und davon berichtet bekommen möchte\, ist am 03. April sehr herzlich in 
 unsere Buchhandlung eingeladen.\n\nVielleicht bekommt man dann auch Lust\,
  die ein oder andere verrückte Idee selbst in die Tat umzusetzen.\n\nEint
 ritt: 10 €.\n\nVeranstalter: Buchhandlung Schmitt &amp\; Hahn Gera.
CATEGORIES:Lesung
LOCATION:Buchhandlung Schmitt & Hahn Gera\, Schlossstraße 6-8 Schloss\, Ge
 ra\, 07545\, Deutschland
GEO:50.877614;12.081498
X-APPLE-STRUCTURED-LOCATION;VALUE=URI;X-ADDRESS=Schlossstraße 6-8 Schloss\
 , Gera\, 07545\, Deutschland;X-APPLE-RADIUS=100;X-TITLE=Buchhandlung Schmi
 tt & Hahn Gera:geo:50.877614,12.081498
END:VEVENT
BEGIN:VTIMEZONE
TZID:Europe/Berlin
X-LIC-LOCATION:Europe/Berlin
BEGIN:DAYLIGHT
DTSTART:20250330T030000
TZOFFSETFROM:+0100
TZOFFSETTO:+0200
TZNAME:CEST
END:DAYLIGHT
END:VTIMEZONE
END:VCALENDAR