BEGIN:VCALENDAR
VERSION:2.0
PRODID:-//wp-events-plugin.com//7.2.3.1//EN
TZID:Europe/Berlin
X-WR-TIMEZONE:Europe/Berlin
BEGIN:VEVENT
UID:371@thueringer-literaturrat.de
DTSTART;TZID=Europe/Berlin:20250410T170000
DTEND;TZID=Europe/Berlin:20250410T193000
DTSTAMP:20250402T113013Z
URL:https://www.thueringer-literaturrat.de/kalender/lesung-mit-gila-freis/
SUMMARY:Lesung mit Gila Freis
DESCRIPTION:Johannas Welt – Lesung mit Gila Freis\n\nIhre Hände sind sch
 mutzig und das Kleid ist zerrissen. Nicht selten fühlt sich für Johanna 
 Trautmann ihr Leben an wie das Graben im Weinberg. Sie wächst bei ihren c
 hristlich geprägten Eltern auf einem Bauernhof in Thüringen auf und erf
 ährt dort die Not der Nachkriegszeit\, die Brutalität der Zwangskollekti
 vierung und die Ohnmacht der Bauern. Ihr Dorf verlässt sie\, weil sie ein
 e berufliche Perspektive in Berlin sucht und das richtige Leben im falsche
 n. Schicksalsschläge wie zwei gescheiterte Ehen\, ihr Alltag einer allein
 erziehenden Mutter zwischen sozialistischer Mangelwirtschaft und dörflich
 er Gemeinschaft\, schwere Krankheiten und der Tod der Eltern machen ihr zu
  schaffen. Doch ihr Überlebenswille ist stark und so meistert sie gefahrv
 olle Situationen und besiegt ihre Angst\, die immer auch eine Angst davor 
 ist\, schuldig zu werden.\nGila Freis erzählt einfühlsam die bewegende G
 eschichte von Johannas Geburt\, ihrer Kindheit in den Fünfzigerjahren bis
  in die Gegenwart. Es ist auch eine Geschichte der Frauen\, die wenige Jah
 re nach dem Zweiten Weltkrieg geboren wurden\, in der DDR aufwuchsen und s
 ich auch im wiedervereinigten Deutschland behaupten müssen und behauptet 
 haben.\n\nDie Veranstaltung beginnt 17 Uhr im 1. OG der Stadt- und Kreisbi
 bliothek.\n\nEintrittskarten zu 5 € können in der Bibliothek im Prinzen
 hof erworben werden oder reserviert werden:\n\n0 36 28 / 64 07 18\n\nbibli
 othek@kulturbetrieb-arnstadt.de\n\nVeranstalter: Stadt- und Kreisbibliothe
 k Arnstadt.
CATEGORIES:Lesung
LOCATION:Stadt- und Kreisbibliothek Arnstadt\, An der Liebfrauenkirche2\, A
 rnstadt\, 99310\, Deutschland
GEO:50.833455;10.942551
X-APPLE-STRUCTURED-LOCATION;VALUE=URI;X-ADDRESS=An der Liebfrauenkirche2\, 
 Arnstadt\, 99310\, Deutschland;X-APPLE-RADIUS=100;X-TITLE=Stadt- und Kreis
 bibliothek Arnstadt:geo:50.833455,10.942551
END:VEVENT
BEGIN:VTIMEZONE
TZID:Europe/Berlin
X-LIC-LOCATION:Europe/Berlin
BEGIN:DAYLIGHT
DTSTART:20250330T030000
TZOFFSETFROM:+0100
TZOFFSETTO:+0200
TZNAME:CEST
END:DAYLIGHT
END:VTIMEZONE
END:VCALENDAR