BEGIN:VCALENDAR
VERSION:2.0
PRODID:-//wp-events-plugin.com//7.2.3.1//EN
TZID:Europe/Berlin
X-WR-TIMEZONE:Europe/Berlin
BEGIN:VEVENT
UID:375@thueringer-literaturrat.de
DTSTART;TZID=Europe/Berlin:20250409T193000
DTEND;TZID=Europe/Berlin:20250409T210000
DTSTAMP:20250402T114350Z
URL:https://www.thueringer-literaturrat.de/kalender/lesung-mit-dominik-ehr
 st/
SUMMARY:Lesung mit Dominik Ehrst
DESCRIPTION:Dominik Ehrst liest "Ole Svensson und die Klasse 1c"\n\nDer geb
 ürtige Gersche kommt für eine Lesung in seine Heimatstadt.\n\nDominik Eh
 rst\, Sandwichkind aus Thüringen\, hat Lehramt studiert und bringt als St
 and-Up Comedian und Slam-Poet ein großes Publikum zum Lachen – besonder
 s wenn er seine Story rund um den Grundschullehrer Ole mitbringt.\n\nIn se
 inem Comedy-Programm verbindet Ehrst Lesungs-\, Stand Up- und Poetry Slam-
 Elemente mit unnachahmlich selbstironischer Art\, hoher Dynamik und einer 
 ordentlichen Prise Gesellschaftskritik. Ein zentraler Bestandteil der Show
  sind dabei die urkomischen Alltagsgeschichten des Grundschullehrers Ole a
 us dem Debütroman "Ole Svensson und die Klasse 1c".\n\nÜber das Buch:\n\
 n"Ole Svensson ist Grundschullehrer. Eigentlich will Ole aber berühmter S
 chriftsteller werden! Und wie jeder weiß\, schreibt sich ein erfolgreiche
 s Buch schneller\, als man "Fjällräven" rufen kann. Man muss nur so viel
 e skandinavische Elemente wie möglich in die Story einbauen!Doch die Schr
 eiberei entpuppt sich für Ole als echtes Unterfangen. Schuld daran sind d
 ie chaotische Klasse 1c\, sein verpeilter WG-Mitbewohner Björn und die ge
 heimnisvolle neue Nachbarin Vänntje. Und als wäre das nicht schon Belast
 ung genug für die schmalen Pädagogenschultern\, verdreht ihm auch noch d
 ie wunderschöne Mutter von Kathi den Kopf.\n\nDiese turbulente Geschichte
 \, gespickt mit viel Selbstironie und schrägen Charakteren\, bietet hinre
 ißend komische Unterhaltung. Skål!\n\nKarten sind direkt in der Biblioth
 ek erhältlich oder reservieren Sie unter 0365 / 838 3378.\n\nDie Karten k
 osten: 12 € Vorverkauf / 15 € Abendkasse\n\nVeranstalter: Bibliothek
 sförderverein „Buch und Leser“ e.V.
CATEGORIES:Lesung
LOCATION:Stadt- und Regionalbibliothek Gera\, Puschkinplatz 7a\, Gera\, 075
 45\, Deutschland
GEO:50.878776;12.078725
X-APPLE-STRUCTURED-LOCATION;VALUE=URI;X-ADDRESS=Puschkinplatz 7a\, Gera\, 0
 7545\, Deutschland;X-APPLE-RADIUS=100;X-TITLE=Stadt- und Regionalbibliothe
 k Gera:geo:50.878776,12.078725
END:VEVENT
BEGIN:VTIMEZONE
TZID:Europe/Berlin
X-LIC-LOCATION:Europe/Berlin
BEGIN:DAYLIGHT
DTSTART:20250330T030000
TZOFFSETFROM:+0100
TZOFFSETTO:+0200
TZNAME:CEST
END:DAYLIGHT
END:VTIMEZONE
END:VCALENDAR