BEGIN:VCALENDAR
VERSION:2.0
PRODID:-//wp-events-plugin.com//7.2.3.1//EN
TZID:Europe/Berlin
X-WR-TIMEZONE:Europe/Berlin
BEGIN:VEVENT
UID:410@thueringer-literaturrat.de
DTSTART;TZID=Europe/Berlin:20250607T193000
DTEND;TZID=Europe/Berlin:20250607T210000
DTSTAMP:20250505T081554Z
URL:https://www.thueringer-literaturrat.de/kalender/lesung-mit-bjarne-maed
 el-und-sven-stricker/
SUMMARY:Lesung mit Bjarne Mädel und Sven Stricker
DESCRIPTION:Bjarne Mädel und Sven Stricker: Sörensen macht Urlaub\n\nDer 
 von seiner Angststörung geplagte Kriminalkommissar Sörensen will endlich
  einmal Urlaub machen und dem tristen Katenbüll für eine Weile entfliehe
 n. Nach Österreich will er\, in die Berge. Was soll schon schiefgehen? An
 twort: alles. Denn das Verbrechen reist ihm hinterher ...\nParallel hat Ko
 llegin Jennifer in Katenbüll plötzlich einen eigenen Mordfall zu bearbei
 ten. Und sie wird den Teufel tun\, Sörensen davon zu erzählen. Doch Sör
 ensen sieht sich bald schon in einem Netz aus größeren und kleineren Lü
 gen gefangen\, das nicht nur ihm die Sicht versperrt. Oder ist es am Ende 
 gerade diese Spur aus Lügen\, die Jenni und ihn zur Wahrheit führt?\nDer
  Autor und freie Wortregisseur Sven Stricker kommt nicht alleine zur Erfur
 ter Frühlingslese\, sondern zusammen mit Bjarne Mädel\, dem bekannten un
 d beliebten Schauspieler\, Regisseur\, Autor und Hörspielsprecher\, der i
 n den Verfilmungen von Sven Strickers Büchern den Kommissar Sörensen spi
 elt.\n\nDer Musiker Jan-Peter Pflug\, der zu den Sörensen-Hörbüchern di
 e Musik komponiert hat\, wird die Lesung am Keyboard begleiten.\n\nVeranst
 alter: Erfurter Herbstlese e.V.
CATEGORIES:Lesung
LOCATION:Theater Erfurt\, Theaterplatz 1\, Erfurt\, 99084\, Deutschland
GEO:50.974563;11.01785
X-APPLE-STRUCTURED-LOCATION;VALUE=URI;X-ADDRESS=Theaterplatz 1\, Erfurt\, 9
 9084\, Deutschland;X-APPLE-RADIUS=100;X-TITLE=Theater Erfurt:geo:50.974563
 ,11.01785
END:VEVENT
BEGIN:VTIMEZONE
TZID:Europe/Berlin
X-LIC-LOCATION:Europe/Berlin
BEGIN:DAYLIGHT
DTSTART:20250330T030000
TZOFFSETFROM:+0100
TZOFFSETTO:+0200
TZNAME:CEST
END:DAYLIGHT
END:VTIMEZONE
END:VCALENDAR