BEGIN:VCALENDAR
VERSION:2.0
PRODID:-//wp-events-plugin.com//7.2.3.1//EN
TZID:Europe/Berlin
X-WR-TIMEZONE:Europe/Berlin
BEGIN:VEVENT
UID:411@thueringer-literaturrat.de
DTSTART;TZID=Europe/Berlin:20250623T193000
DTEND;TZID=Europe/Berlin:20250623T210000
DTSTAMP:20250505T082045Z
URL:https://www.thueringer-literaturrat.de/kalender/lesung-mit-bahar-oghal
 ai-und-maria-do-mar-castro-varela/
SUMMARY:Lesung mit Bahar Oghalai und Maria do Mar Castro Varela
DESCRIPTION:Bahar Oghalai und Maria do Mar Castro Varela: Freund*innenschaf
 t\n\n&nbsp\;\n\nDreiklang einer politischen Praxis\n\nGerechtigkeit ist da
 s Ziel\, doch mit wem ist dieses zu erreichen? Es handelt sich dabei keine
 swegs um eine Randfrage\, die neben den angeblich zentralen politischen Di
 skussionen gestellt wird\, sondern um ein explizit politisches Thema\, das
  im Zentrum einer jeden sozialen Bewegung steht.\n\nEs lohnt sich hier üb
 er einen anderen Begriff der politischen Praxis nachzudenken: Freundinnens
 chaft\, meist ins Private verdonnert und aus dem politischen Terrain verda
 mmt. Dabei sind Freundinnenschaften genuin politische Beziehungen\, deren 
 grundlegende Charakteristika unseren Blick auf die Welt transformieren. In
  Zeiten multipler Krisen und wachsender globaler Ungleichheiten\, verfolgt
  dieser Essay bereits bestehende Theorien zur Freundinnenschaft\, um diese
  anschließend für einen Begriff der Freundinnenschaft als politische Pra
 xis produktiv zu machen.\n\nBahar Oghalai ist Sozialwissenschaftlerin und 
 promoviert zu Politisierungsbiografien migrantischer Feministinnen aus dem
  Iran in Deutschland an der Universität Koblenz. Sie ist außerdem Dozent
 in an der Alice-Salomon-Hochschule und publiziert regelmäßig zu den Them
 en Feminismus und Migration mit einem besonderen Fokus auf Westasien/Norda
 frika.\n\nVeranstalter: Erfurter Herbstlese e.V. Eine Kooperation mit dem 
 Frauenzentrum Brennessel e. V. Gefördert von der Rosa Luxemburg Stiftung 
 Thüringen.\n\nFreier Eintritt.\n\n&nbsp\;
CATEGORIES:Gespräch,Lesung
LOCATION:Kultur: Haus Dacheröden Erfurt\, Anger 37\, Erfurt\, 99084\, Deut
 schland
GEO:50.974185;11.031379
X-APPLE-STRUCTURED-LOCATION;VALUE=URI;X-ADDRESS=Anger 37\, Erfurt\, 99084\,
  Deutschland;X-APPLE-RADIUS=100;X-TITLE=Kultur: Haus Dacheröden Erfurt:ge
 o:50.974185,11.031379
END:VEVENT
BEGIN:VTIMEZONE
TZID:Europe/Berlin
X-LIC-LOCATION:Europe/Berlin
BEGIN:DAYLIGHT
DTSTART:20250330T030000
TZOFFSETFROM:+0100
TZOFFSETTO:+0200
TZNAME:CEST
END:DAYLIGHT
END:VTIMEZONE
END:VCALENDAR