BEGIN:VCALENDAR
VERSION:2.0
PRODID:-//wp-events-plugin.com//7.2.3.1//EN
TZID:Europe/Berlin
X-WR-TIMEZONE:Europe/Berlin
BEGIN:VEVENT
UID:403@thueringer-literaturrat.de
DTSTART;TZID=Europe/Berlin:20250516T100000
DTEND;TZID=Europe/Berlin:20250516T113000
DTSTAMP:20250430T081811Z
URL:https://www.thueringer-literaturrat.de/kalender/lesung-mit-antje-baben
 dererde/
SUMMARY:Lesung mit Antje Babendererde
DESCRIPTION:Die Schriftstellerin Antje Babendererde liest aus ihrem Roman 
 „Triff mich im tiefen Blau“\n\n\nDie Geschichte „Triff mich im tiefe
 n Blau“ spielt in Schottland auf den Hebriden und erzählt von Leonie\, 
 die hier auf der Insel bei ihrer Mutter den Sommer verbringt. Eigentlich l
 ebt sie in Berlin\, ist Abiturientin und Klimaaktivistin\, steckt aber mom
 entan in einer tiefen Krise. Dort lernt sie den auf der Insel geborenen Ta
 m kennen und ist fasziniert von ihm und seiner Freundschaft zu einem Delph
 inmädchen. Je mehr sich Leonie auf die Menschen und die Natur einlässt\,
  umso mehr gewinnt sie ihre Leichtigkeit und Lebensfreude zurück.\nDieses
  besondere Jugendbuch setzt sich gefühlvoll mit der Jugend\, dem Klimawan
 del und den Umweltschutz auseinander.\nEine Veranstaltung für Jugendliche
  ab 15 Jahre\n\nVeranstalter: Friedrich-Bödecker-Kreis für Thüringen e.
 V. Gefördert durch das Thüringer Ministerium für Bildung\, Wissenschaft
  und Kultur.
CATEGORIES:Lesung
LOCATION:Kinder- und Jugenbibliothek Erfurt\, Marktstraße 21\, Erfurt\, 99
 084\, Deutschland
GEO:50.977632;11.025799
X-APPLE-STRUCTURED-LOCATION;VALUE=URI;X-ADDRESS=Marktstraße 21\, Erfurt\, 
 99084\, Deutschland;X-APPLE-RADIUS=100;X-TITLE=Kinder- und Jugenbibliothek
  Erfurt:geo:50.977632,11.025799
END:VEVENT
BEGIN:VTIMEZONE
TZID:Europe/Berlin
X-LIC-LOCATION:Europe/Berlin
BEGIN:DAYLIGHT
DTSTART:20250330T030000
TZOFFSETFROM:+0100
TZOFFSETTO:+0200
TZNAME:CEST
END:DAYLIGHT
END:VTIMEZONE
END:VCALENDAR