BEGIN:VCALENDAR
VERSION:2.0
PRODID:-//wp-events-plugin.com//7.2.3.1//EN
TZID:Europe/Berlin
X-WR-TIMEZONE:Europe/Berlin
BEGIN:VEVENT
UID:372@thueringer-literaturrat.de
DTSTART;TZID=Europe/Berlin:20250404T130000
DTEND;TZID=Europe/Berlin:20250404T210000
DTSTAMP:20250402T113208Z
URL:https://www.thueringer-literaturrat.de/kalender/lesung-fuer-kinder-zur
 -nacht-der-bibliotheken/
SUMMARY:Lesung für Kinder zur Nacht der Bibliotheken
DESCRIPTION:13:00 – 21:00 Uhr\n\nIm Rahmen der Nacht der Bibliotheken bie
 ten wir allen Interessierten die Möglichkeit die Bibliothek im Monat Apri
 l kostenfrei zu entdecken. Für die Anmeldung benötigen wir nur einen gü
 ltigen Ausweis und schon geht es los. Nutzt diese einmalige Chance auf die
  wunderbare Welt der Bücher im Prinzenhof!\n\n17:00 – 20:00 Uhr\n\nSwit
 ch-Turnier für Kinder ab 8 Jahren\n\nWir teilen euch in Gruppen und spiel
 en gegeneinander. Lasst euch überraschen!\n\nUm Voranmeldung wird gebeten
 : bibliothek@kulturbetrieb-arnstadt.de\, 03628/640718\n\n17:00 – 21:00 U
 hr\n\nDie Technothek öffnet ihre Türen\n\nDie Technothek im 1. OG präse
 ntiert ihre Baukästen und lädt zum spielerischen entdecken ein. Baut ein
 e Lego-Bibliothek oder den höchsten Kapplaturm in der Bibliothek. Oder ve
 rsucht euch doch mal an einer Alarmanlage oder sogar an der Cyberhand?!\n\
 n18:30 – 19:00 Uhr\n\nLesung für Kinder ab 5 Jahren\n\nWir lesen an die
 sem Abend eine Geschichte für Kinder und interessieret Zuhörer ab 5 Jahr
 en im historischen Raum der Bibliothek vor. Kommt vorbei und lauscht der G
 eschichte. Anschließend habt ihr an diesem Abend die Möglichkeit die Bib
 liothek in Ruhe zu erkunden oder an den weiteren Veranstaltungen teilzuneh
 men.\n\n20:00 – 20:30 Uhr\n\nLesung für Kinder ab 8 Jahren\n\nWir lesen
  an diesem Abend eine Geschichte für Kinder und interessieret Zuhörer ab
  8 Jahren im historischen Raum der Bibliothek vor. Kommt vorbei und lausch
 t der Geschichte. Anschließend habt ihr an diesem Abend die Möglichkeit 
 die Bibliothek in Ruhe zu erkunden oder an den weiteren Veranstaltungen te
 ilzunehmen.\n\n&nbsp\;\n\nVeranstalter: Stadt- und Kreisbibliothek Arnstad
 t.
CATEGORIES:Lesung
LOCATION:Stadt- und Kreisbibliothek Arnstadt\, An der Liebfrauenkirche2\, A
 rnstadt\, 99310\, Deutschland
GEO:50.833455;10.942551
X-APPLE-STRUCTURED-LOCATION;VALUE=URI;X-ADDRESS=An der Liebfrauenkirche2\, 
 Arnstadt\, 99310\, Deutschland;X-APPLE-RADIUS=100;X-TITLE=Stadt- und Kreis
 bibliothek Arnstadt:geo:50.833455,10.942551
END:VEVENT
BEGIN:VTIMEZONE
TZID:Europe/Berlin
X-LIC-LOCATION:Europe/Berlin
BEGIN:DAYLIGHT
DTSTART:20250330T030000
TZOFFSETFROM:+0100
TZOFFSETTO:+0200
TZNAME:CEST
END:DAYLIGHT
END:VTIMEZONE
END:VCALENDAR