BEGIN:VCALENDAR
VERSION:2.0
PRODID:-//wp-events-plugin.com//7.2.3.1//EN
TZID:Europe/Berlin
X-WR-TIMEZONE:Europe/Berlin
BEGIN:VEVENT
UID:415@thueringer-literaturrat.de
DTSTART;TZID=Europe/Berlin:20250523T090000
DTEND;TZID=Europe/Berlin:20250523T123000
DTSTAMP:20250507T054604Z
URL:https://www.thueringer-literaturrat.de/kalender/lesung-fuer-kinder-mit
 -ingo-siegner/
SUMMARY:Lesung für Kinder mit Ingo Siegner
DESCRIPTION:KOKOSNUSS IN DER TIEFSEE\n\nLesung für Kinder mit Ingo Siegner
 \n\n09:00 Uhr und 11:00 Uhr\n\nUm Anmeldung wird gebeten unter: josephine.
 liebermann@stadtweimar.de\n\nVeranstalter: Stadtbücherei Weimar.
LOCATION:Stadtbücherei Weimar\, Steubenstraße 1\, Weimar\, 99423\, Deutsc
 hland
GEO:50.977057;11.326859
X-APPLE-STRUCTURED-LOCATION;VALUE=URI;X-ADDRESS=Steubenstraße 1\, Weimar\,
  99423\, Deutschland;X-APPLE-RADIUS=100;X-TITLE=Stadtbücherei Weimar:geo:
 50.977057,11.326859
END:VEVENT
BEGIN:VTIMEZONE
TZID:Europe/Berlin
X-LIC-LOCATION:Europe/Berlin
BEGIN:DAYLIGHT
DTSTART:20250330T030000
TZOFFSETFROM:+0100
TZOFFSETTO:+0200
TZNAME:CEST
END:DAYLIGHT
END:VTIMEZONE
END:VCALENDAR