BEGIN:VCALENDAR
VERSION:2.0
PRODID:-//wp-events-plugin.com//7.2.3.1//EN
TZID:Europe/Berlin
X-WR-TIMEZONE:Europe/Berlin
BEGIN:VEVENT
UID:416@thueringer-literaturrat.de
DTSTART;TZID=Europe/Berlin:20250616T180000
DTEND;TZID=Europe/Berlin:20250616T193000
DTSTAMP:20250507T083452Z
URL:https://www.thueringer-literaturrat.de/kalender/lesung-aus-thomas-mann
 s-goethe-roman-lotte-in-weimar/
SUMMARY:Lesung aus Thomas Manns Goethe-Roman »Lotte in Weimar«
DESCRIPTION:Erinnerungen an eine unglückliche Liebe nach 44 Jahren\n\nLesu
 ng aus Thomas Manns Goethe-Roman „Lotte in Weimar“ mit Oliver Meyer-E
 llendt\, Wetzlarer Goethe-Gesellschaft e. V.\n\n&nbsp\;\n\nAuch wenn Thoma
 s Manns Roman „Lotte in Weimar“ immer seltener gelesen wird\, bleibt e
 r ein Klassiker. Dass sich die Auseinandersetzung mit dem Werk unbedingt l
 ohnt\, will die Goethe Gesellschaft Altenburg bekräftigen. Der 150. Gebur
 tstag von Thomas Mann in diesem Jahr ist daher Anlass\, dessen Goethe-Roma
 n am 16. Juni 2025 zu durchdringen.\n\nOliver Meyer Ellendt\, Autor und Re
 gisseur der Wetzlarer Kostüm- und Erlebnis-Stadtführungen sowie Vorsitze
 nder der dortigen Goethe-Gesellschaft\, leiht dem Romangeschehen in einer 
 gekürzten Lesung seine Stimme. Mit eingeschobenen Kommentaren sichert er 
 das Verständnis der Zuhörenden für die Gesamthandlung und gibt Anregung
  zur eigenen „Nachlese“.\n\nIm Sommer 1772 verliebt sich der 22-jähri
 ge Goethe während eines viermonatigen Aufenthalts in der Reichsstadt Wetz
 lar in die drei Jahre jüngere Amtmannstochter Charlotte Buff. Doch Charlo
 tte hat sich bereits einem anderen Mann versprochen. Goethe zieht sich zur
 ück und verarbeitet seine Erfahrungen in dem Briefroman „Die Leiden des
  jungen Werthers“.\n\nIm September 1816 begegnen sich der 67-jährige Go
 ethe und die mittlerweile verwitwete Charlotte Kestner\, geborene Buff\, e
 rneut. Das Wiedersehen nach 44 Jahren verläuft für Charlotte enttäusche
 nd: „Ich habe eine neue Bekanntschaft von einem alten Manne gemacht\, we
 lcher (…) keinen angenehmen Eindruck auf mich gemacht hat.“\n\nDiese k
 leine Episode in der Literaturgeschichte wählt Thomas Mann zum Kern seine
 s Romans „Lotte in Weimar“. Nach seiner Emigration in die USA 1938 set
 zt er damit der ideologischen Vereinnahmung Goethes durch die Nationalsozi
 alisten seine eigene Sicht auf den Klassiker entgegen. Dabei zeigt Mann di
 e menschlichen Widersprüche in Goethes Persönlichkeit und Werk und fäng
 t mit feinem Humor und literarischer Eleganz die melancholische Stimmung s
 eines Wiedersehens mit Charlotte ein.\n\nJe mehr man über die realen Bege
 benheiten weiß\, desto mehr Freude verspricht das Buch seinen Leserinnen 
 und Lesern. Thomas Mann gestand selbst: „Eine Erzählung …\, worin ich
  mir die phantastische Freude mache\, Goethen persönlich auf die Beine zu
  stellen. Kühn\, nicht wahr? Aber nachdem ich’s mit 40 vermieden\, will
  ich mir’s mit 60 lustspielmäßig gönnen“.\n\nDie Veranstaltung mit 
 dem Titel „Ein buchenswertes Erlebnis“. Thomas Manns Goethe-Roman „L
 otte in Weimar“ findet im Interim des Lindenau-Museums „Kunstgasse 1
 “ in Altenburg bei freiem Eintritt statt. Beginn ist 18 Uhr.\n\nWeitere 
 Informationen und Kontakt zum Veranstalter bietet die Internetseite: www.g
 oethe-altenburg.de.\n\nEintritt gegen freiwillige Spende für die Förderu
 ng des Kulturprogramms der Goethe Gesellschaft Altenburg e. V.\n\nVeransta
 lter: Goethe-Gesellschaft Altenburg.
CATEGORIES:Lesung
LOCATION:Interim des Lindenau-Museums Altenburg\, Kunstgasse 1\, Altenburg\
 , 04600\, Deutschland
GEO:50.983316;12.435798
X-APPLE-STRUCTURED-LOCATION;VALUE=URI;X-ADDRESS=Kunstgasse 1\, Altenburg\, 
 04600\, Deutschland;X-APPLE-RADIUS=100;X-TITLE=Interim des Lindenau-Museum
 s Altenburg:geo:50.983316,12.435798
END:VEVENT
BEGIN:VTIMEZONE
TZID:Europe/Berlin
X-LIC-LOCATION:Europe/Berlin
BEGIN:DAYLIGHT
DTSTART:20250330T030000
TZOFFSETFROM:+0100
TZOFFSETTO:+0200
TZNAME:CEST
END:DAYLIGHT
END:VTIMEZONE
END:VCALENDAR