BEGIN:VCALENDAR
VERSION:2.0
PRODID:-//wp-events-plugin.com//7.2.3.1//EN
TZID:Europe/Berlin
X-WR-TIMEZONE:Europe/Berlin
BEGIN:VEVENT
UID:376@thueringer-literaturrat.de
DTSTART;TZID=Europe/Berlin:20250430T170000
DTEND;TZID=Europe/Berlin:20250430T183000
DTSTAMP:20250416T083454Z
URL:https://www.thueringer-literaturrat.de/kalender/feierliche-eroeffnung-
 zum-themenjahr-faust/
SUMMARY:Feierliche Eröffnung zum Themenjahr Faust
DESCRIPTION:Feierliche Eröffnung zum Themenjahr Faust\n\n&nbsp\;\n\nZur Wa
 lpurgisnacht lädt die Klassik Stiftung Weimar Besucher*innen herzlich zum
  Eröffnungsfest des Themenjahres Faust an das Co-Labor vor dem Stadtschlo
 ss Weimar ein. Geboten wird ein abwechslungsreicher Abend mit Live-Musik\,
  spannenden Ausstellungen und einem musikalischen Tierumzug vom Schloss We
 imar zum Schiller-Museum\, der ACC-Galerie und dem Goethe- und Schiller-Ar
 chiv durch die Weimarer Altstadt. Dabei können die drei neuen Ausstellung
 en „Faust“ im Schiller-Museum\, „Experiment Faust“ im Goethe- und 
 Schiller-Archiv sowie „Teuflisch! Mephisto in der Bibliothek“ im Studi
 enzentrum der Herzogin Anna Amalia Bibliothek bestaunt werden. Der Eintrit
 t ist frei!\n\nGoethes Faust neu lesen: Im 250. Jahr nach der Ankunft Goet
 hes in Weimar verwandelt sich die Thüringer Residenzstadt in eine lebendi
 ge Faust-Werkstatt! In Ausstellungen\, Experimenten und Debatten widmet si
 ch das Themenjahr dem Meisterwerk des Dichters und einem der größten Wer
 ke deutschsprachiger Literatur.\n\nWeitere Informationen\n\nVeranstalter: 
 Klassik Stiftung Weimar
CATEGORIES:Festveranstaltung
LOCATION:Co-Labor vor dem Stadtschloss Weimar\, Burgplatz 4\, Weimar\, 9942
 3\, Deutschland
GEO:50.980719;11.332026
X-APPLE-STRUCTURED-LOCATION;VALUE=URI;X-ADDRESS=Burgplatz 4\, Weimar\, 9942
 3\, Deutschland;X-APPLE-RADIUS=100;X-TITLE=Co-Labor vor dem Stadtschloss W
 eimar:geo:50.980719,11.332026
END:VEVENT
BEGIN:VTIMEZONE
TZID:Europe/Berlin
X-LIC-LOCATION:Europe/Berlin
BEGIN:DAYLIGHT
DTSTART:20250330T030000
TZOFFSETFROM:+0100
TZOFFSETTO:+0200
TZNAME:CEST
END:DAYLIGHT
END:VTIMEZONE
END:VCALENDAR