BEGIN:VCALENDAR
VERSION:2.0
PRODID:-//wp-events-plugin.com//7.2.3.1//EN
TZID:Europe/Berlin
X-WR-TIMEZONE:Europe/Berlin
BEGIN:VEVENT
UID:369@thueringer-literaturrat.de
DTSTART;TZID=Europe/Berlin:20250410T180000
DTEND;TZID=Europe/Berlin:20250410T193000
DTSTAMP:20250401T073449Z
URL:https://www.thueringer-literaturrat.de/kalender/buchvorstellung-und-ge
 spraech-mit-christian-meier-und-michael-knoche/
SUMMARY:Buchvorstellung und Gespräch mit Christian Meier und Michael Knoch
 e
DESCRIPTION:„Vergangenheit ohne Ende? Texte und Gespräche zur Alten Gesc
 hichte und zur Gegenwart“\n\nBuchvorstellung und Gespräch mit Christian
  Meier und Michael Knoche\n\nVeranstalter: Gesellschaft Anna Amalia Biblio
 thek / Herzogin Anna Amalia Bibliothek.
CATEGORIES:Buchpremiere
LOCATION:Herzogin Anna Amalia Bibliothek Weimar\, Historisches Bibliotheksg
 ebäude\, Platz der Demokratie 1\, Weimar\, 99423\, Deutschland
GEO:50.978376;11.331429
X-APPLE-STRUCTURED-LOCATION;VALUE=URI;X-ADDRESS=Platz der Demokratie 1\, We
 imar\, 99423\, Deutschland;X-APPLE-RADIUS=100;X-TITLE=Herzogin Anna Amalia
  Bibliothek Weimar\, Historisches Bibliotheksgebäude:geo:50.978376,11.331
 429
END:VEVENT
BEGIN:VTIMEZONE
TZID:Europe/Berlin
X-LIC-LOCATION:Europe/Berlin
BEGIN:DAYLIGHT
DTSTART:20250330T030000
TZOFFSETFROM:+0100
TZOFFSETTO:+0200
TZNAME:CEST
END:DAYLIGHT
END:VTIMEZONE
END:VCALENDAR