BEGIN:VCALENDAR
VERSION:2.0
PRODID:-//wp-events-plugin.com//7.2.3.1//EN
TZID:Europe/Berlin
X-WR-TIMEZONE:Europe/Berlin
BEGIN:VEVENT
UID:412@thueringer-literaturrat.de
DTSTART;TZID=Europe/Berlin:20250516T180000
DTEND;TZID=Europe/Berlin:20250516T193000
DTSTAMP:20250507T053253Z
URL:https://www.thueringer-literaturrat.de/kalender/buchvorstellung-mit-ha
 rald-bodenschatz-victoria-grau-christiane-post-max-welch-guerra/
SUMMARY:Buchvorstellung mit Harald Bodenschatz\, Victoria Grau\, Christiane
  Post\, Max Welch Guerra
DESCRIPTION:Buchvorstellung – »Städtebau im Nationalsozialismus. Angrif
 f\, Triumph\, Terror im europäischen Kontext 1933-1945«\n\nNach Abschlus
 s einer 25-jährigen Forschung zum Thema Städtebau und Diktatur wird der 
 Städtebau der NS-Diktatur erstmals nicht nur in seiner außerordentlichen
  Dynamik\, sondern auch im Kontext anderer europäischer Diktaturen jener 
 Zeit betrachtet.\n\nStädtebau war ein wesentliches Instrument der NS-Dikt
 atur. Er diente der Legitimation von Herrschaft und Demonstration von Stä
 rke\, er begleitete Aufrüstung und Krieg\, vermittelte das gesellschaftsp
 olitische Programm\, war ein Medium der Konkurrenz mit anderen Staaten und
  grenzte systematisch Bevölkerungsgruppen aus.\n\nZwischen 1933 und 1945 
 wechselten mehrmals die großen Themen des Städtebaus\, die wichtigsten A
 kteure\, die Inhalte der Propaganda\, die betroffenen Städte und Praktike
 n. Diese einzigartige Dynamik kann nicht nur national\, sondern muss auch 
 im europäischen Kontext verstanden werden.\n\nÜber Repräsentationsbaute
 n hinaus werden Wohnungsbau\, Altstadterneuerung\, Innere Kolonisation\, B
 auten der Aufrüstung sowie die Anlagen der Infrastruktur\, des Krieges\, 
 Erziehungsanstalten und Lager thematisiert.\n\nBibliographische Informatio
 n: Harald Bodenschatz\, Victoria Grau\, Christiane Post\, Max Welch Guerra
  (Hg.)\, Städtebau im Nationalsozialismus. Angriff\, Triumph\, Terror im 
 europäischen Kontext 1933-1945\, DOM publishers\, Mai 2025\, ISBN 978-3-8
 6922-635-4\n\nVeranstalter: Klassik Stiftung Weimar in Kooperation mit der
  Bauhaus-Universität Weimar und dem Museum Zwangsarbeit.\n\n&nbsp\;\n\nEi
 ntritt frei.
CATEGORIES:Buchpremiere
LOCATION:Bauhaus-Museum Weimar\, Stéphane-Hessel-Platz 1\, Weimar\, 99423\
 , Deutschland
GEO:50.984506;11.325386
X-APPLE-STRUCTURED-LOCATION;VALUE=URI;X-ADDRESS=Stéphane-Hessel-Platz 1\, 
 Weimar\, 99423\, Deutschland;X-APPLE-RADIUS=100;X-TITLE=Bauhaus-Museum Wei
 mar:geo:50.984506,11.325386
END:VEVENT
BEGIN:VTIMEZONE
TZID:Europe/Berlin
X-LIC-LOCATION:Europe/Berlin
BEGIN:DAYLIGHT
DTSTART:20250330T030000
TZOFFSETFROM:+0100
TZOFFSETTO:+0200
TZNAME:CEST
END:DAYLIGHT
END:VTIMEZONE
END:VCALENDAR