BEGIN:VCALENDAR
VERSION:2.0
PRODID:-//wp-events-plugin.com//7.2.3.1//EN
TZID:Europe/Berlin
X-WR-TIMEZONE:Europe/Berlin
BEGIN:VEVENT
UID:409@thueringer-literaturrat.de
DTSTART;TZID=Europe/Berlin:20250522T190000
DTEND;TZID=Europe/Berlin:20250522T203000
DTSTAMP:20250505T080344Z
URL:https://www.thueringer-literaturrat.de/kalender/buchpremiere-mit-micha
 el-grisko/
SUMMARY:Buchpremiere mit Michael Grisko
DESCRIPTION:Michael Grisko: Der DEFA-Regisseur Rolf Losansky\n\nBuchpremier
 e „Ich war nie eine Hauptplanposition…!"\nIm Gespräch mit dem Vorstan
 d der DEFA-Stiftung Stefanie Eckert stellt Filmwissenschaftler Michael Gri
 sko sein neues Buch über den Kinderfilmregisseur Rolf Losansky (1931-2016
 ) vor. Losansky realisierte DEFA-Klassiker wie „Ein Schneemann für Afri
 ka" (1977)\, „Moritz in der Litfaßsäule" (1983) und den in Arnstadt ge
 drehten „Das Schulgespenst" (1986). Anfang der 1990er Jahre übernahm er
  die Präsidentschaft des Kinderfilmfestivals „Goldener Spatz“. Kathar
 ina Trautmann\, die Losansky mehrfach auf dem Festival erlebt hat\, wird i
 hre persönlichen Erinnerungen an ihn teilen.\n\nDie Publikation „Ich wa
 r nie eine Hauptplanposition…!" zeigt die Vielfalt des seit 1963 entstan
 denen Filmwerkes\, aber auch die immer schwieriger werdenden Bemühungen d
 es Regisseurs nach der Wende und öffnet den Blick auf eine lange Karriere
  in knapp 50 Jahren deutsch-deutscher Filmgeschichte. Das Buch ist im Verl
 ag „Bertz&amp\;Fischer" erschienen und kann an diesem Abend erstmals er
 worben werden.\n\nIm Eintrittspreis enthalten ist ein Begrüßungsgetränk
 .\nPreis Vorverkauf: 5\,00 € Abendkasse: 7\,00 €\n\nVeranstalter: Erfu
 rter Herbstlese e.V.
CATEGORIES:Buchpremiere
LOCATION:Kultur: Haus Dacheröden Erfurt\, Anger 37\, Erfurt\, 99084\, Deut
 schland
GEO:50.974185;11.031379
X-APPLE-STRUCTURED-LOCATION;VALUE=URI;X-ADDRESS=Anger 37\, Erfurt\, 99084\,
  Deutschland;X-APPLE-RADIUS=100;X-TITLE=Kultur: Haus Dacheröden Erfurt:ge
 o:50.974185,11.031379
END:VEVENT
BEGIN:VTIMEZONE
TZID:Europe/Berlin
X-LIC-LOCATION:Europe/Berlin
BEGIN:DAYLIGHT
DTSTART:20250330T030000
TZOFFSETFROM:+0100
TZOFFSETTO:+0200
TZNAME:CEST
END:DAYLIGHT
END:VTIMEZONE
END:VCALENDAR