BEGIN:VCALENDAR
VERSION:2.0
PRODID:-//wp-events-plugin.com//7.2.3.1//EN
TZID:Europe/Berlin
X-WR-TIMEZONE:Europe/Berlin
BEGIN:VEVENT
UID:404@thueringer-literaturrat.de
DTSTART;TZID=Europe/Berlin:20250517T143000
DTEND;TZID=Europe/Berlin:20250517T153000
DTSTAMP:20250430T082346Z
URL:https://www.thueringer-literaturrat.de/kalender/bibliotheksfest-mit-de
 m-maerchenerzaehler-hansi-von-maerchenborn/
SUMMARY:Bibliotheksfest mit dem Märchenerzähler Hansi von Märchenborn
DESCRIPTION:Märchenerzähler Hansi von Märchenborn zu Gast beim Bibliothe
 ksfest in Kamsdorf\n\n\nAm 17.5.25 findet unser diesjährigen Bibliotheksf
 est statt. Die Veranstaltung wird von Kindern und deren Eltern immer gern 
 besucht. Das Bibliotheksfest findet in und um unsere Kamsdorfer Gemeindebi
 bliothek statt. Eine Bastelstraße lädt große und kleine Gäste zum Verw
 eilen ein. Kinder können sich schminken oder von geschickten Händen Zöp
 fe flechten lassen. Speisen und Getränke werden angeboten. Ulrike Weiderm
 ann freut sich über fleißige Hände vom Feuerwehr- und Kulturverein\, di
 e ihr immer helfend zur Seite stehen. Für ein besonderes Erlebnis sorgt d
 er Auftritt des Erzählers Hansi von Märchenborn zu dem alle Interesseier
 ten zwischen 3-99 Jahren eingeladen sind.\n\nVeranstalter: Friedrich-Böde
 cker-Kreis für Thüringen e.V. Gefördert durch das Thüringer Ministeriu
 m für Bildung\, Wissenschaft und Kultur.
CATEGORIES:Freies Erzählen
LOCATION:Gemeindebibliothek Kamsdorf\, Zollhäuser Straße 28\, Unterwellen
 born OT Kamsdorf\, 07333\, Deutschland
GEO:50.644029;11.452075
X-APPLE-STRUCTURED-LOCATION;VALUE=URI;X-ADDRESS=Zollhäuser Straße 28\, Un
 terwellenborn OT Kamsdorf\, 07333\, Deutschland;X-APPLE-RADIUS=100;X-TITLE
 =Gemeindebibliothek Kamsdorf:geo:50.644029,11.452075
END:VEVENT
BEGIN:VTIMEZONE
TZID:Europe/Berlin
X-LIC-LOCATION:Europe/Berlin
BEGIN:DAYLIGHT
DTSTART:20250330T030000
TZOFFSETFROM:+0100
TZOFFSETTO:+0200
TZNAME:CEST
END:DAYLIGHT
END:VTIMEZONE
END:VCALENDAR