BEGIN:VCALENDAR
VERSION:2.0
PRODID:-//wp-events-plugin.com//7.2.3.1//EN
TZID:Europe/Berlin
X-WR-TIMEZONE:Europe/Berlin
BEGIN:VEVENT
UID:368@thueringer-literaturrat.de
DTSTART;TZID=Europe/Berlin:20250430T190000
DTEND;TZID=Europe/Berlin:20250430T203000
DTSTAMP:20250401T073246Z
URL:https://www.thueringer-literaturrat.de/kalender/ausstellungseroeffnung
 -faust-eine-ausstellung/
SUMMARY:Ausstellungseröffnung »Faust. Eine Ausstellung«
DESCRIPTION:Geht uns „Faust“ heute etwas an? – Diese Frage erkundet d
 ie zentrale Ausstellung des Themenjahrs 2025 im Schiller-Museum.\n\nKünst
 liche Intelligenz\, das Ringen um Identität\, die Krisen des Kapitalismus
 \, Liebe und Verrat\, die Kraft der Natur und die Folgen ihrer Zerstörung
  – all diese Punkte werden in Goethes Hauptwerk „Faust“ verhandelt u
 nd sind aktueller denn je. Besucher*innen können in der zentralen Ausstel
 lung zum Themenjahr 2025 in diese und weitere Themen des Werks anschauend\
 , hörend\, lesend und mitmachend eintauchen. Immer steht dabei der Text\,
  das sprachliche Kunstwerk\, der Klang der Verse im Mittelpunkt.\n\nDie Au
 sstellung ist eine Einladung\, sich diesem einzigartig vieldeutigen Werk a
 nzunähern\, die sich an alle richtet: an Menschen\, die den „Faust“ g
 elesen haben\, an Menschen\, die das noch vorhaben und an Menschen\, die s
 ich noch nicht sicher sind\, ob das etwas für sie ist.\n\nTicketvorverkau
 f: seit 1. Februar 2025\n\nVeranstalter: Klassik Stiftung Weimar.\n\n&nbsp
 \;
CATEGORIES:Ausstellungseröffnung
LOCATION:Schiller-Museum Weimar\, Schillerstraße 12\, Weimar\, 99423 \, De
 utschland
GEO:50.978959;11.327794
X-APPLE-STRUCTURED-LOCATION;VALUE=URI;X-ADDRESS=Schillerstraße 12\, Weimar
 \, 99423 \, Deutschland;X-APPLE-RADIUS=100;X-TITLE=Schiller-Museum Weimar:
 geo:50.978959,11.327794
END:VEVENT
BEGIN:VTIMEZONE
TZID:Europe/Berlin
X-LIC-LOCATION:Europe/Berlin
BEGIN:DAYLIGHT
DTSTART:20250330T030000
TZOFFSETFROM:+0100
TZOFFSETTO:+0200
TZNAME:CEST
END:DAYLIGHT
END:VTIMEZONE
END:VCALENDAR