BEGIN:VCALENDAR
VERSION:2.0
PRODID:-//wp-events-plugin.com//7.2.3.1//EN
TZID:Europe/Berlin
X-WR-TIMEZONE:Europe/Berlin
BEGIN:VEVENT
UID:370@thueringer-literaturrat.de
DTSTART;TZID=Europe/Berlin:20250413T110000
DTEND;TZID=Europe/Berlin:20250413T123000
DTSTAMP:20250401T081939Z
URL:https://www.thueringer-literaturrat.de/kalender/ausstellungseroeffnung
 -der-spitze-bogen-mit-arbeiten-von-katharina-und-holger-poitz/
SUMMARY:Ausstellungseröffnung »Der spitze Bogen« mit Arbeiten von Kathar
 ina und Holger Poitz
DESCRIPTION:»Der spitze Bogen« – Lyrik und Fotografien von Katharina un
 d Holger Poitz\n\nLyrik-Lesung mit Katharina Poitz und Margit Krause.\n\nM
 usik: Flötenquartett Tannroda.\n\n&nbsp\;\n\nAusstellungsdauer\n11. April
  bis 28. Juli 2025\n\nÖffnungszeiten\ntäglich von 9:00 Uhr bis 18:00 Uhr
CATEGORIES:Ausstellungseröffnung
LOCATION:St. Michael-Kirche Tannroda\, Lindenberg 1\, Tannroda\, 99448\, De
 utschland
GEO:50.860163;11.245759
X-APPLE-STRUCTURED-LOCATION;VALUE=URI;X-ADDRESS=Lindenberg 1\, Tannroda\, 9
 9448\, Deutschland;X-APPLE-RADIUS=100;X-TITLE=St. Michael-Kirche Tannroda:
 geo:50.860163,11.245759
END:VEVENT
BEGIN:VTIMEZONE
TZID:Europe/Berlin
X-LIC-LOCATION:Europe/Berlin
BEGIN:DAYLIGHT
DTSTART:20250330T030000
TZOFFSETFROM:+0100
TZOFFSETTO:+0200
TZNAME:CEST
END:DAYLIGHT
END:VTIMEZONE
END:VCALENDAR