BEGIN:VCALENDAR
VERSION:2.0
PRODID:-//wp-events-plugin.com//7.2.3.1//EN
TZID:Europe/Berlin
X-WR-TIMEZONE:Europe/Berlin
BEGIN:VEVENT
UID:414@thueringer-literaturrat.de
DTSTART;TZID=Europe/Berlin:20250524T110000
DTEND;TZID=Europe/Berlin:20250524T180000
DTSTAMP:20250507T054229Z
URL:https://www.thueringer-literaturrat.de/kalender/13369/
SUMMARY:Kochberger Gartenvergnügen
DESCRIPTION:Kochberger Gartenvergnügen\nKlassik-Gartenfestival mit einem u
 mfangreichen Programm\, Besichtigungen und einem vielfältigen Angebot an 
 den Ständen.\nZur Eröffnung des Kochberger Gartenvergnügens findet bere
 its um 11 Uhr ein Festgottesdienst in der alten Patronatskirche St. Michae
 l statt.\n\nAn den Ständen im Schlosshof und auf dem Theaterplatz erwarte
 n die Besucher ab 12 Uhr Gartenpflanzen\, Blumen\, historische Pelargonien
 \, Kräuter\, Gartenaccessoires und -dekorationen\, Duftessenzen und Seife
 n\, Naturkosmetik\, Strohhüte\, Körbe\, Spielzeug\, Natur- und Holzwaren
 \, Schmuck\, Feinkost\, Eingemachtes\, Honig\, Wein\, Brot\, Kaffee und Ku
 chen\, Maibowle\, Imbiss und Eis vom Biohof\n\nProgramm\n\n- 11 Uhr - Geh 
 aus mein Herz und suche Freud\nFestgottesdienst zur Eröffnung in der alte
 n Patronatskirche St. Michael im Dorf\n\n- 17 Uhr - Im Schatten des Großv
 aters (30 €)\n\nGesprächskonzert mit Werken von Walther von Goethe\nUlf
  Bästlein\, Gesang und Lesung\nChristoph Ritter\, Hammerflügel\nAriane L
 udwig\, Lesung\n\n- 12–18 Uhr - Besichtigungen\n\n12–15 Uhr: Besichtig
 ung des einzigartigen Privattheaters aus dem 18. Jahrhundert\n\n12–18 Uh
 r: Museumsbesuch im Schloss von Goethes Liebe Charlotte von Stein\n\n12–
 18 Uhr: Besuch der reich ausgestatteten ehemaligen Patronatskirche St. Mic
 hael im Dorf\n\n13 · 15 · 17 Uhr: Geführte Tour – Wo Goethe seine Lie
 be Charlotte von Stein besuchte – (90 min) mit Schloss Kochberg\, Schlos
 spark und Stippvisite ins Liebhabertheater (sofern möglich)\n\nParken ist
  auf der Wiese zwischen Reitplatz und Schlosspark und auf dem Gemeindepark
 platz (Achtung: kostenpflichtig!) am Ortseingang von Neusitz aus kommend (
 Lausnitzweg 2) möglich.\n\nLiebhabertheater Schloss Kochberg\n\nDer allge
 meine Eintritt kostet 5 Euro.\n\nVeranstalter: Klassik Stiftung Weimar / L
 iebhabertheater Schloss Kochberg.
CATEGORIES:Gartenfest
LOCATION:Liebhabertheater Schloss Kochberg\, Im Schloßhof 4\, Uhlstädt-Ki
 rchhasel / OT Großkochberg\, 07407\, Deutschland
GEO:50.776491;11.357654
X-APPLE-STRUCTURED-LOCATION;VALUE=URI;X-ADDRESS=Im Schloßhof 4\, Uhlstädt
 -Kirchhasel / OT Großkochberg\, 07407\, Deutschland;X-APPLE-RADIUS=100;X-
 TITLE=Liebhabertheater Schloss Kochberg:geo:50.776491,11.357654
END:VEVENT
BEGIN:VTIMEZONE
TZID:Europe/Berlin
X-LIC-LOCATION:Europe/Berlin
BEGIN:DAYLIGHT
DTSTART:20250330T030000
TZOFFSETFROM:+0100
TZOFFSETTO:+0200
TZNAME:CEST
END:DAYLIGHT
END:VTIMEZONE
END:VCALENDAR